BEGIN:VCALENDAR
METHOD:PUBLISH
VERSION:2.0
CALSCALE:GREGORIAN
PRODID:-//NONSGML WPForms//NONSGML Sugar Calendar Feeds v3.11.0//EN
X-WR-CALNAME:Blitz Bonanza!
X-WR-CALDESC:Vereenigd Amsterdamsch Schaakgenootschap
X-WR-TIMEZONE:Europe/Amsterdam
BEGIN:VTIMEZONE
TZID:Europe/Amsterdam
BEGIN:DAYLIGHT
TZOFFSETFROM:+0200
TZOFFSETTO:+0200
DTSTART:20250424T080000
TZNAME:CEST
END:DAYLIGHT
END:VTIMEZONE
BEGIN:VTIMEZONE
TZID:Europe/Amsterdam
BEGIN:DAYLIGHT
TZOFFSETFROM:+0200
TZOFFSETTO:+0200
DTSTART:20250424T080000
TZNAME:CEST
END:DAYLIGHT
END:VTIMEZONE
BEGIN:VEVENT
SUMMARY:Blitz Bonanza!
DESCRIPTION:Het is herfstvakantie maar dat houdt ons natuurlijk niet teg
 en. We gaan snelschaken!\n\n 	11 rondes\n 	open groep\n 	leuke prijzen p
 er rating categorie\n 	speeltempo 3+2\n 	pauze na ronde 6\n\nTot dan!\n\
 n&nbsp\;
URL;VALUE=URI:https://www.vas1822.nl/events/blitz-bonanza/
UID:urn:uuid:cb33fb8a-b1a8-495c-b30a-b38ca27f6269
STATUS:CONFIRMED
ORGANIZER:
DTSTAMP:20260425T102951Z
DTSTART;TZID=Europe/Amsterdam:20251023T200000
DTEND;TZID=Europe/Amsterdam:20251023T230000
END:VEVENT
END:VCALENDAR