BEGIN:VCALENDAR
METHOD:PUBLISH
VERSION:2.0
CALSCALE:GREGORIAN
PRODID:-//NONSGML WPForms//NONSGML Sugar Calendar Feeds v3.11.0//EN
X-WR-CALNAME:Keizer Ronde 2
X-WR-CALDESC:Vereenigd Amsterdamsch Schaakgenootschap
X-WR-TIMEZONE:Europe/Amsterdam
BEGIN:VTIMEZONE
TZID:Europe/Amsterdam
BEGIN:DAYLIGHT
TZOFFSETFROM:+0100
TZOFFSETTO:+0200
DTSTART:20250330T010000
TZNAME:CEST
END:DAYLIGHT
END:VTIMEZONE
BEGIN:VTIMEZONE
TZID:Europe/Amsterdam
BEGIN:DAYLIGHT
TZOFFSETFROM:+0100
TZOFFSETTO:+0200
DTSTART:20250330T010000
TZNAME:CEST
END:DAYLIGHT
END:VTIMEZONE
BEGIN:VEVENT
SUMMARY:Keizer Ronde 2
DESCRIPTION:Een heerlijk klassiek potje schaak. In een fantastische ambi
 ance\n\n\n\n\nSpelers van elk niveau\n\n\n\ntoernooicoach IM Khoi Pham v
 oor analyses achteraf\n\n\n\nEen stilteruimte om te spelen voor die beho
 efte aan heeft\n\n\n\nKoekjes en snacks van het huis!\n\n\n\n\nTot dan!
URL;VALUE=URI:https://www.vas1822.nl/events/keizer-ronde-2/
UID:urn:uuid:fd6618af-8d87-4f64-98f9-ddf1721abb6f
STATUS:CONFIRMED
ORGANIZER:
DTSTAMP:20260425T231935Z
DTSTART;TZID=Europe/Amsterdam:20250925T200000
DTEND;TZID=Europe/Amsterdam:20250925T233000
END:VEVENT
END:VCALENDAR