BEGIN:VCALENDAR
METHOD:PUBLISH
VERSION:2.0
CALSCALE:GREGORIAN
PRODID:-//NONSGML WPForms//NONSGML Sugar Calendar Feeds v3.11.0//EN
X-WR-CALNAME:Keizer ronde 5
X-WR-CALDESC:Vereenigd Amsterdamsch Schaakgenootschap
X-WR-TIMEZONE:Europe/Amsterdam
BEGIN:VTIMEZONE
TZID:Europe/Amsterdam
BEGIN:DAYLIGHT
TZOFFSETFROM:+0200
TZOFFSETTO:+0200
DTSTART:20250417T080000
TZNAME:CEST
END:DAYLIGHT
END:VTIMEZONE
BEGIN:VTIMEZONE
TZID:Europe/Amsterdam
BEGIN:DAYLIGHT
TZOFFSETFROM:+0200
TZOFFSETTO:+0200
DTSTART:20250417T080000
TZNAME:CEST
END:DAYLIGHT
END:VTIMEZONE
BEGIN:VEVENT
SUMMARY:Keizer ronde 5
DESCRIPTION:Een heerlijk klassiek potje schaak. In een fantastische ambi
 ance\n\n\n\n\nSpelers van elk niveau\n\n\n\ntoernooicoach IM Khoi Pham v
 oor analyses achteraf\n\n\n\nEen stilteruimte om te spelen voor die beho
 efte aan heeft\n\n\n\nKoekjes en snacks van het huis!\n\n\n\n\nTot dan!
URL;VALUE=URI:https://www.vas1822.nl/events/keizer-ronde-4-2/
UID:urn:uuid:5079bd1e-129e-447e-97c6-c71d642970b3
STATUS:CONFIRMED
ORGANIZER:
DTSTAMP:20260425T121336Z
DTSTART;TZID=Europe/Amsterdam:20251016T200000
DTEND;TZID=Europe/Amsterdam:20251016T233000
END:VEVENT
END:VCALENDAR