BEGIN:VCALENDAR
METHOD:PUBLISH
VERSION:2.0
CALSCALE:GREGORIAN
PRODID:-//NONSGML WPForms//NONSGML Sugar Calendar Feeds v3.11.0//EN
X-WR-CALNAME:KNSB Competitie Ronde 2 (alle teams thuis)
X-WR-CALDESC:Vereenigd Amsterdamsch Schaakgenootschap
X-WR-TIMEZONE:Europe/Amsterdam
BEGIN:VTIMEZONE
TZID:Europe/Amsterdam
BEGIN:DAYLIGHT
TZOFFSETFROM:+0200
TZOFFSETTO:+0200
DTSTART:20250405T004500
TZNAME:CEST
END:DAYLIGHT
END:VTIMEZONE
BEGIN:VTIMEZONE
TZID:Europe/Amsterdam
BEGIN:DAYLIGHT
TZOFFSETFROM:+0200
TZOFFSETTO:+0200
DTSTART:20250405T004500
TZNAME:CEST
END:DAYLIGHT
END:VTIMEZONE
BEGIN:VEVENT
SUMMARY:KNSB Competitie Ronde 2 (alle teams thuis)
DESCRIPTION:Een heerlijke zaterdag voor de schaakliefhebber. Kom vooral 
 kijken! Of spelen natuurlijk als je in een team zit.
URL;VALUE=URI:https://www.vas1822.nl/events/knsb-competitie-ronde-2-alle
 -teams-thuis/
UID:urn:uuid:bf56325a-b9c4-4828-b8b3-cb69321e25db
STATUS:CONFIRMED
ORGANIZER:
DTSTAMP:20260425T183135Z
DTSTART;TZID=Europe/Amsterdam:20251004T124500
DTEND;TZID=Europe/Amsterdam:20251004T170000
END:VEVENT
END:VCALENDAR