BEGIN:VCALENDAR
METHOD:PUBLISH
VERSION:2.0
CALSCALE:GREGORIAN
PRODID:-//NONSGML WPForms//NONSGML Sugar Calendar Feeds v3.11.0//EN
X-WR-CALNAME:KNSB Competitie
X-WR-CALDESC:Vereenigd Amsterdamsch Schaakgenootschap
X-WR-TIMEZONE:Europe/Amsterdam
BEGIN:VTIMEZONE
TZID:Europe/Amsterdam
BEGIN:DAYLIGHT
TZOFFSETFROM:+0100
TZOFFSETTO:+0200
DTSTART:20250330T010000
TZNAME:CEST
END:DAYLIGHT
END:VTIMEZONE
BEGIN:VTIMEZONE
TZID:Europe/Amsterdam
BEGIN:DAYLIGHT
TZOFFSETFROM:+0100
TZOFFSETTO:+0200
DTSTART:20250330T010000
TZNAME:CEST
END:DAYLIGHT
END:VTIMEZONE
BEGIN:VEVENT
SUMMARY:KNSB Competitie
DESCRIPTION:De verschillende VAS team spelen uitwedstrijden in de landel
 ijke competitie.\n\n\n\nKlik hier om hun prestaties te volgen
URL;VALUE=URI:https://www.vas1822.nl/events/knsb-competitie/
UID:urn:uuid:4dd7087a-43ee-4096-abb8-36b58d6e70a9
STATUS:CONFIRMED
ORGANIZER:
DTSTAMP:20260425T200915Z
DTSTART;TZID=Europe/Amsterdam:20250920T130000
DTEND;TZID=Europe/Amsterdam:20250920T180000
END:VEVENT
END:VCALENDAR