BEGIN:VCALENDAR
METHOD:PUBLISH
VERSION:2.0
CALSCALE:GREGORIAN
PRODID:-//NONSGML WPForms//NONSGML Sugar Calendar Feeds v3.11.0//EN
X-WR-CALNAME:Online Trainingen!
X-WR-CALDESC:Vereenigd Amsterdamsch Schaakgenootschap
X-WR-TIMEZONE:Europe/Amsterdam
BEGIN:VTIMEZONE
TZID:Europe/Amsterdam
BEGIN:STANDARD
TZOFFSETFROM:+0200
TZOFFSETTO:+0100
DTSTART:20251026T010000
TZNAME:CET
END:STANDARD
BEGIN:DAYLIGHT
TZOFFSETFROM:+0100
TZOFFSETTO:+0200
DTSTART:20260329T010000
TZNAME:CEST
END:DAYLIGHT
END:VTIMEZONE
BEGIN:VTIMEZONE
TZID:Europe/Amsterdam
BEGIN:STANDARD
TZOFFSETFROM:+0200
TZOFFSETTO:+0100
DTSTART:20251026T010000
TZNAME:CET
END:STANDARD
BEGIN:DAYLIGHT
TZOFFSETFROM:+0100
TZOFFSETTO:+0200
DTSTART:20260329T010000
TZNAME:CEST
END:DAYLIGHT
END:VTIMEZONE
BEGIN:VEVENT
SUMMARY:Online Trainingen!
DESCRIPTION:VAS maakt weer gebruik van het KC Online Training Clubpakket
 . Dit betekent dat al onze leden mogen deelnemen aan online trainingen g
 egeven door de beste professionals!\n\n\n\n\nVijf van de beste trainers 
 van Nederland voor alle niveau's!\n\n\n\nSerie van 8 lessen + 2 mastercl
 asses\n\n\n\nTrainingen zijn laagdrempelig online te volgen\n\n\n\nMet e
 xtra materiaal om na afloop in clubverband of individueel verder te oefe
 nen.\n\n\n\n\n\n\n\n\n\n\n\n\n\n\n\n\n&nbsp\;\n\n\n\nMEER INFORMATIE\n\n
 \n\nEr zijn dit jaar trainingen op 5 verschillende niveaus\, zodat er zo
 veel mogelijk schakers mee kunnen doen\n\n\n\n\nRating 0-1500: Robin Dus
 on (8 trainingen)\n\n\n\nRating 1500-1700: Robin Duson (8 trainingen)\n\
 n\n\nRating 1700-1900: IM Jop Delemarre (8 trainingen)\n\n\n\nRating 190
 0-2100: IM Nick Maatman (8 trainingen)\n\n\n\nRating 2100-2400: GM Sipke
  Ernst (8 trainingen)\n\n\n\n\nNaast de 8 trainingen kan iedereen meedoe
 n aan twee masterclasses die dit jaar worden verzorgd door GM Loek va
 n Wely. Wil je een indruk krijgen van hoe de trainingen verlopen? Hier 
 kun je een aantal voorbeeldfragmenten vinden.\n\n\n\nDe training duurt 1
 \,5 uur per les met in totaal 8 lessen. Na de training zullen de deelnem
 ers ook huiswerk mee krijgen.\n\n\n\nDATA\n\n\n\nDe trainingen vinden pl
 aats tussen 20:00-21:30.\n\n\n\n\n\n\n\nBlok\nLes\n&lt\;1500\n1500-1700\
 n1700-1900\n1900-2100\n2100-2400\n\n\n\n1\n\n1\n19-okt\n26-okt\n19-okt\n
 26-okt\n2-nov\n\n\n2\n2-nov\n9-nov\n2-nov\n9-nov\n16-nov\n\n\n3\n16-nov\
 n23-nov\n16-nov\n23-nov\n30-nov\n\n\n4\n30-nov\n14-dec\n30-nov\n14-dec\n
 21-dec\n\n\n\n2\n\n5\n22-feb\n15-feb\n22-feb\n15-feb\n22-feb\n\n\n6\n8-m
 rt\n1-mrt\n8-mrt\n1-mrt\n8-mrt\n\n\n7\n29-mrt\n22-mrt\n29-mrt\n22-mrt\n2
 9-mrt\n\n\n8\n12-apr\n6-apr*\n12-apr\n6-apr*\n12-apr\n\n\n\n\n\n\n\n*Een
 malig op maandag\n\n\n\nDe eerste masterclass van GM Loek van Wely is op
  woensdag 14 januari en de tweede op woensdag 28 januari van 20:00 t
 ot 22:00. De masterclass is toegankelijk voor alle deelnemers van de KC 
 Online Trainingen!\n\n\n\nInhoud lessen\n\n\n\nBen je benieuwd naar de i
 nhoud van de lessen? Een gedetailleerde uitleg van de stof die wordt beh
 andeld vind je per groep via de onderstaande links:\n\n\n\n\nGroep tot 1
 500\n\n\n\nGroep 1500-1700\n\n\n\nGroep 1700-1900\n\n\n\nGroep 1900-2100
 \n\n\n\nGroep 2100-2400\n\n\n\n\nMeer informatie?\n\n\n\nKijk op de apar
 te pagina’s voor meer informatie over:\n\n\n\n\nDe trainers\n\n\n\nDe 
 opzet\n\n\n\nVoorbeeldfragmenten
URL;VALUE=URI:https://www.vas1822.nl/events/online-trainingen-gaan-weer-
 van-start/
UID:urn:uuid:4a197275-767a-43a0-8009-b09ea2255916
STATUS:CONFIRMED
ORGANIZER:
DTSTAMP:20260425T135353Z
DTSTART;TZID=Europe/Amsterdam:20251019T200000
DTEND;TZID=Europe/Amsterdam:20260412T213000
END:VEVENT
END:VCALENDAR