BEGIN:VCALENDAR
METHOD:PUBLISH
VERSION:2.0
CALSCALE:GREGORIAN
PRODID:-//NONSGML WPForms//NONSGML Sugar Calendar Feeds v3.11.0//EN
X-WR-CALNAME:SGA competitie: Amsterdam West 4 - VAS 3
X-WR-CALDESC:Vereenigd Amsterdamsch Schaakgenootschap
X-WR-TIMEZONE:Europe/Amsterdam
BEGIN:VTIMEZONE
TZID:Europe/Amsterdam
BEGIN:STANDARD
TZOFFSETFROM:+0200
TZOFFSETTO:+0100
DTSTART:20251026T010000
TZNAME:CET
END:STANDARD
END:VTIMEZONE
BEGIN:VTIMEZONE
TZID:Europe/Amsterdam
BEGIN:STANDARD
TZOFFSETFROM:+0200
TZOFFSETTO:+0100
DTSTART:20251026T010000
TZNAME:CET
END:STANDARD
END:VTIMEZONE
BEGIN:VEVENT
SUMMARY:SGA competitie: Amsterdam West 4 - VAS 3
DESCRIPTION:Uitslagen en stand VAS 3
URL;VALUE=URI:https://www.vas1822.nl/events/sga-competitie-amsterdam-wes
 t-4-vas-3/
UID:urn:uuid:a1e9bf26-8768-4279-9806-87540ac8248b
STATUS:CONFIRMED
ORGANIZER:
DTSTAMP:20260421T082651Z
DTSTART;TZID=Europe/Amsterdam:20251106T200000
DTEND;TZID=Europe/Amsterdam:20251106T230000
END:VEVENT
END:VCALENDAR