BEGIN:VCALENDAR
METHOD:PUBLISH
VERSION:2.0
CALSCALE:GREGORIAN
PRODID:-//NONSGML WPForms//NONSGML Sugar Calendar Feeds v3.11.0//EN
X-WR-CALNAME:SGA competitie: Caissa 2 - VAS 1
X-WR-CALDESC:Vereenigd Amsterdamsch Schaakgenootschap
X-WR-TIMEZONE:Europe/Amsterdam
BEGIN:VTIMEZONE
TZID:Europe/Amsterdam
BEGIN:STANDARD
TZOFFSETFROM:+0200
TZOFFSETTO:+0100
DTSTART:20251026T010000
TZNAME:CET
END:STANDARD
END:VTIMEZONE
BEGIN:VTIMEZONE
TZID:Europe/Amsterdam
BEGIN:STANDARD
TZOFFSETFROM:+0200
TZOFFSETTO:+0100
DTSTART:20251026T010000
TZNAME:CET
END:STANDARD
END:VTIMEZONE
BEGIN:VEVENT
SUMMARY:SGA competitie: Caissa 2 - VAS 1
DESCRIPTION:Uitslagen en stand VAS 1\n\n&nbsp\;
URL;VALUE=URI:https://www.vas1822.nl/events/sga-competitie-caissa-2-vas-
 1/
UID:urn:uuid:ef58bf23-7c0e-4c9b-a2af-e37786b4a2e6
STATUS:CONFIRMED
ORGANIZER:
DTSTAMP:20260423T115544Z
DTSTART;TZID=Europe/Amsterdam:20251209T200000
DTEND;TZID=Europe/Amsterdam:20251209T230000
END:VEVENT
END:VCALENDAR