BEGIN:VCALENDAR
METHOD:PUBLISH
VERSION:2.0
CALSCALE:GREGORIAN
PRODID:-//NONSGML WPForms//NONSGML Sugar Calendar Feeds v3.11.0//EN
X-WR-CALNAME:SGA competitie: De Paardenfluisteraar 1 - VAS 9
X-WR-CALDESC:Vereenigd Amsterdamsch Schaakgenootschap
X-WR-TIMEZONE:Europe/Amsterdam
BEGIN:VTIMEZONE
TZID:Europe/Amsterdam
BEGIN:STANDARD
TZOFFSETFROM:+0200
TZOFFSETTO:+0100
DTSTART:20251026T010000
TZNAME:CET
END:STANDARD
END:VTIMEZONE
BEGIN:VTIMEZONE
TZID:Europe/Amsterdam
BEGIN:STANDARD
TZOFFSETFROM:+0200
TZOFFSETTO:+0100
DTSTART:20251026T010000
TZNAME:CET
END:STANDARD
END:VTIMEZONE
BEGIN:VEVENT
SUMMARY:SGA competitie: De Paardenfluisteraar 1 - VAS 9
DESCRIPTION:Uitslagen en stand VAS 9
URL;VALUE=URI:https://www.vas1822.nl/events/sga-competitie-de-paardenflu
 isteraar-vas-9/
UID:urn:uuid:24576b16-61fd-411c-b2a1-0298b617a1d1
STATUS:CONFIRMED
ORGANIZER:
DTSTAMP:20260419T150108Z
DTSTART;TZID=Europe/Amsterdam:20260319T200000
DTEND;TZID=Europe/Amsterdam:20260319T230000
END:VEVENT
END:VCALENDAR