BEGIN:VCALENDAR
METHOD:PUBLISH
VERSION:2.0
CALSCALE:GREGORIAN
PRODID:-//NONSGML WPForms//NONSGML Sugar Calendar Feeds v3.11.0//EN
X-WR-CALNAME:SGA competitie: De Queer Schaakclub 2 - VAS 7
X-WR-CALDESC:Vereenigd Amsterdamsch Schaakgenootschap
X-WR-TIMEZONE:Europe/Amsterdam
BEGIN:VTIMEZONE
TZID:Europe/Amsterdam
BEGIN:STANDARD
TZOFFSETFROM:+0200
TZOFFSETTO:+0100
DTSTART:20251026T010000
TZNAME:CET
END:STANDARD
END:VTIMEZONE
BEGIN:VTIMEZONE
TZID:Europe/Amsterdam
BEGIN:STANDARD
TZOFFSETFROM:+0200
TZOFFSETTO:+0100
DTSTART:20251026T010000
TZNAME:CET
END:STANDARD
END:VTIMEZONE
BEGIN:VEVENT
SUMMARY:SGA competitie: De Queer Schaakclub 2 - VAS 7
DESCRIPTION:Uitslagen en stand VAS 7
URL;VALUE=URI:https://www.vas1822.nl/events/sga-competitie-de-queer-scha
 akclub-2-vas-7/
UID:urn:uuid:c9f9199e-4b5e-49ac-9793-b24f74154e32
STATUS:CONFIRMED
ORGANIZER:
DTSTAMP:20260423T091031Z
DTSTART;TZID=Europe/Amsterdam:20260311T200000
DTEND;TZID=Europe/Amsterdam:20260311T230000
END:VEVENT
END:VCALENDAR