BEGIN:VCALENDAR
METHOD:PUBLISH
VERSION:2.0
CALSCALE:GREGORIAN
PRODID:-//NONSGML WPForms//NONSGML Sugar Calendar Feeds v3.11.0//EN
X-WR-CALNAME:SGA competitie: De Volewijckers 3 - VAS 8
X-WR-CALDESC:Vereenigd Amsterdamsch Schaakgenootschap
X-WR-TIMEZONE:Europe/Amsterdam
BEGIN:VTIMEZONE
TZID:Europe/Amsterdam
BEGIN:STANDARD
TZOFFSETFROM:+0200
TZOFFSETTO:+0100
DTSTART:20251026T010000
TZNAME:CET
END:STANDARD
END:VTIMEZONE
BEGIN:VTIMEZONE
TZID:Europe/Amsterdam
BEGIN:STANDARD
TZOFFSETFROM:+0200
TZOFFSETTO:+0100
DTSTART:20251026T010000
TZNAME:CET
END:STANDARD
END:VTIMEZONE
BEGIN:VEVENT
SUMMARY:SGA competitie: De Volewijckers 3 - VAS 8
DESCRIPTION:Uitslagen en stand VAS 8
URL;VALUE=URI:https://www.vas1822.nl/events/sga-competitie-de-volewijcke
 rs-3-vas-8/
UID:urn:uuid:146d42a5-f267-4548-bac8-33f1b959e6a4
STATUS:CONFIRMED
ORGANIZER:
DTSTAMP:20260419T194716Z
DTSTART;TZID=Europe/Amsterdam:20260211T200000
DTEND;TZID=Europe/Amsterdam:20260211T230000
END:VEVENT
END:VCALENDAR