BEGIN:VCALENDAR
METHOD:PUBLISH
VERSION:2.0
CALSCALE:GREGORIAN
PRODID:-//NONSGML WPForms//NONSGML Sugar Calendar Feeds v3.11.0//EN
X-WR-CALNAME:SGA competitie: Oosten-Toren 3 - VAS 8
X-WR-CALDESC:Vereenigd Amsterdamsch Schaakgenootschap
X-WR-TIMEZONE:Europe/Amsterdam
BEGIN:VTIMEZONE
TZID:Europe/Amsterdam
BEGIN:STANDARD
TZOFFSETFROM:+0200
TZOFFSETTO:+0100
DTSTART:20251026T010000
TZNAME:CET
END:STANDARD
END:VTIMEZONE
BEGIN:VTIMEZONE
TZID:Europe/Amsterdam
BEGIN:STANDARD
TZOFFSETFROM:+0200
TZOFFSETTO:+0100
DTSTART:20251026T010000
TZNAME:CET
END:STANDARD
END:VTIMEZONE
BEGIN:VEVENT
SUMMARY:SGA competitie: Oosten-Toren 3 - VAS 8
DESCRIPTION:Uitslagen en stand VAS 8
URL;VALUE=URI:https://www.vas1822.nl/events/sga-competitie-oosten-toren-
 3-vas-8/
UID:urn:uuid:5e1a933e-5764-4029-801f-fc7d3c1a05dc
STATUS:CONFIRMED
ORGANIZER:
DTSTAMP:20260419T164009Z
DTSTART;TZID=Europe/Amsterdam:20260319T200000
DTEND;TZID=Europe/Amsterdam:20260319T230000
END:VEVENT
END:VCALENDAR