BEGIN:VCALENDAR
METHOD:PUBLISH
VERSION:2.0
CALSCALE:GREGORIAN
PRODID:-//NONSGML WPForms//NONSGML Sugar Calendar Feeds v3.11.0//EN
X-WR-CALNAME:SGA competitie: Oosten-Toren 4 - VAS 9
X-WR-CALDESC:Vereenigd Amsterdamsch Schaakgenootschap
X-WR-TIMEZONE:Europe/Amsterdam
BEGIN:VTIMEZONE
TZID:Europe/Amsterdam
BEGIN:STANDARD
TZOFFSETFROM:+0200
TZOFFSETTO:+0100
DTSTART:20251026T010000
TZNAME:CET
END:STANDARD
END:VTIMEZONE
BEGIN:VTIMEZONE
TZID:Europe/Amsterdam
BEGIN:STANDARD
TZOFFSETFROM:+0200
TZOFFSETTO:+0100
DTSTART:20251026T010000
TZNAME:CET
END:STANDARD
END:VTIMEZONE
BEGIN:VEVENT
SUMMARY:SGA competitie: Oosten-Toren 4 - VAS 9
DESCRIPTION:Uitslagen en stand VAS 9
URL;VALUE=URI:https://www.vas1822.nl/events/sga-competitie-oosten-toren-
 4-vas-9/
UID:urn:uuid:8e5defbe-56eb-4f33-bee3-953faf007a58
STATUS:CONFIRMED
ORGANIZER:
DTSTAMP:20260419T183536Z
DTSTART;TZID=Europe/Amsterdam:20251204T200000
DTEND;TZID=Europe/Amsterdam:20251204T230000
END:VEVENT
END:VCALENDAR