BEGIN:VCALENDAR
METHOD:PUBLISH
VERSION:2.0
CALSCALE:GREGORIAN
PRODID:-//NONSGML WPForms//NONSGML Sugar Calendar Feeds v3.11.0//EN
X-WR-CALNAME:SGA competitie: VAS 1 - Amsterdam West 1
X-WR-CALDESC:Vereenigd Amsterdamsch Schaakgenootschap
X-WR-TIMEZONE:Europe/Amsterdam
BEGIN:VTIMEZONE
TZID:Europe/Amsterdam
BEGIN:STANDARD
TZOFFSETFROM:+0200
TZOFFSETTO:+0100
DTSTART:20251026T010000
TZNAME:CET
END:STANDARD
END:VTIMEZONE
BEGIN:VTIMEZONE
TZID:Europe/Amsterdam
BEGIN:STANDARD
TZOFFSETFROM:+0200
TZOFFSETTO:+0100
DTSTART:20251026T010000
TZNAME:CET
END:STANDARD
END:VTIMEZONE
BEGIN:VEVENT
SUMMARY:SGA competitie: VAS 1 - Amsterdam West 1
DESCRIPTION:Uitslagen en stand VAS 1\n\n&nbsp\;\n\n&nbsp\;
URL;VALUE=URI:https://www.vas1822.nl/events/sga-competitie-vas-1-amsterd
 am-west-1/
UID:urn:uuid:acd209c9-281f-4678-a20a-df096b5e059f
STATUS:CONFIRMED
ORGANIZER:
DTSTAMP:20260423T133317Z
DTSTART;TZID=Europe/Amsterdam:20251106T200000
DTEND;TZID=Europe/Amsterdam:20251106T230000
END:VEVENT
END:VCALENDAR