BEGIN:VCALENDAR
METHOD:PUBLISH
VERSION:2.0
CALSCALE:GREGORIAN
PRODID:-//NONSGML WPForms//NONSGML Sugar Calendar Feeds v3.11.0//EN
X-WR-CALNAME:SGA Competitie: VAS 2  - Volewijckers 1
X-WR-CALDESC:Vereenigd Amsterdamsch Schaakgenootschap
X-WR-TIMEZONE:Europe/Amsterdam
BEGIN:VTIMEZONE
TZID:Europe/Amsterdam
BEGIN:DAYLIGHT
TZOFFSETFROM:+0200
TZOFFSETTO:+0200
DTSTART:20250403T080000
TZNAME:CEST
END:DAYLIGHT
END:VTIMEZONE
BEGIN:VTIMEZONE
TZID:Europe/Amsterdam
BEGIN:DAYLIGHT
TZOFFSETFROM:+0200
TZOFFSETTO:+0200
DTSTART:20250403T080000
TZNAME:CEST
END:DAYLIGHT
END:VTIMEZONE
BEGIN:VEVENT
SUMMARY:SGA Competitie: VAS 2  - Volewijckers 1
DESCRIPTION:Voor meer informatie: https://sga.netstand.nl/teams/view/545
URL;VALUE=URI:https://www.vas1822.nl/events/sga-competitie-vas-2-volewij
 ckers-1/
UID:urn:uuid:1da7143d-2dae-4436-875c-d369c8ad6526
STATUS:CONFIRMED
ORGANIZER:
DTSTAMP:20260425T153454Z
DTSTART;TZID=Europe/Amsterdam:20251002T200000
DTEND;TZID=Europe/Amsterdam:20251002T233000
END:VEVENT
END:VCALENDAR