BEGIN:VCALENDAR
METHOD:PUBLISH
VERSION:2.0
CALSCALE:GREGORIAN
PRODID:-//NONSGML WPForms//NONSGML Sugar Calendar Feeds v3.11.0//EN
X-WR-CALNAME:SGA competitie: VAS 4 - Caissa 4
X-WR-CALDESC:Vereenigd Amsterdamsch Schaakgenootschap
X-WR-TIMEZONE:Europe/Amsterdam
BEGIN:VTIMEZONE
TZID:Europe/Amsterdam
BEGIN:STANDARD
TZOFFSETFROM:+0200
TZOFFSETTO:+0100
DTSTART:20251026T010000
TZNAME:CET
END:STANDARD
END:VTIMEZONE
BEGIN:VTIMEZONE
TZID:Europe/Amsterdam
BEGIN:STANDARD
TZOFFSETFROM:+0200
TZOFFSETTO:+0100
DTSTART:20251026T010000
TZNAME:CET
END:STANDARD
END:VTIMEZONE
BEGIN:VEVENT
SUMMARY:SGA competitie: VAS 4 - Caissa 4
DESCRIPTION:Uitslagen en stand VAS 4
URL;VALUE=URI:https://www.vas1822.nl/events/sga-competitie-vas-4-caissa-
 4/
UID:urn:uuid:dbad5d64-9e1f-4780-934f-ca1fbe8e0ae0
STATUS:CONFIRMED
ORGANIZER:
DTSTAMP:20260419T132236Z
DTSTART;TZID=Europe/Amsterdam:20260226T200000
DTEND;TZID=Europe/Amsterdam:20260226T230000
END:VEVENT
END:VCALENDAR