BEGIN:VCALENDAR
METHOD:PUBLISH
VERSION:2.0
CALSCALE:GREGORIAN
PRODID:-//NONSGML WPForms//NONSGML Sugar Calendar Feeds v3.11.0//EN
X-WR-CALNAME:SGA competitie: VAS 5 - De Raadsheer 3
X-WR-CALDESC:Vereenigd Amsterdamsch Schaakgenootschap
X-WR-TIMEZONE:Europe/Amsterdam
BEGIN:VTIMEZONE
TZID:Europe/Amsterdam
BEGIN:STANDARD
TZOFFSETFROM:+0200
TZOFFSETTO:+0100
DTSTART:20251026T010000
TZNAME:CET
END:STANDARD
END:VTIMEZONE
BEGIN:VTIMEZONE
TZID:Europe/Amsterdam
BEGIN:STANDARD
TZOFFSETFROM:+0200
TZOFFSETTO:+0100
DTSTART:20251026T010000
TZNAME:CET
END:STANDARD
END:VTIMEZONE
BEGIN:VEVENT
SUMMARY:SGA competitie: VAS 5 - De Raadsheer 3
DESCRIPTION:Uitslagen en stand VAS 5
URL;VALUE=URI:https://www.vas1822.nl/events/sga-competitie-vas-5-de-raad
 sheer-3/
UID:urn:uuid:e768cccc-c892-47fd-b96d-36fe7291624d
STATUS:CONFIRMED
ORGANIZER:
DTSTAMP:20260424T095740Z
DTSTART;TZID=Europe/Amsterdam:20260219T200000
DTEND;TZID=Europe/Amsterdam:20260219T230000
END:VEVENT
END:VCALENDAR