BEGIN:VCALENDAR
METHOD:PUBLISH
VERSION:2.0
CALSCALE:GREGORIAN
PRODID:-//NONSGML WPForms//NONSGML Sugar Calendar Feeds v3.11.0//EN
X-WR-CALNAME:SGA competitie: VAS 6 - Zukertort Amstelveen 2
X-WR-CALDESC:Vereenigd Amsterdamsch Schaakgenootschap
X-WR-TIMEZONE:Europe/Amsterdam
BEGIN:VTIMEZONE
TZID:Europe/Amsterdam
BEGIN:STANDARD
TZOFFSETFROM:+0200
TZOFFSETTO:+0100
DTSTART:20251026T010000
TZNAME:CET
END:STANDARD
END:VTIMEZONE
BEGIN:VTIMEZONE
TZID:Europe/Amsterdam
BEGIN:STANDARD
TZOFFSETFROM:+0200
TZOFFSETTO:+0100
DTSTART:20251026T010000
TZNAME:CET
END:STANDARD
END:VTIMEZONE
BEGIN:VEVENT
SUMMARY:SGA competitie: VAS 6 - Zukertort Amstelveen 2
DESCRIPTION:Uitslagen en stand VAS 6
URL;VALUE=URI:https://www.vas1822.nl/events/sga-competitie-vas-6-zukerto
 rt-amstelveen-2/
UID:urn:uuid:733e84a2-2da0-4962-aa85-7d6f67d3bca2
STATUS:CONFIRMED
ORGANIZER:
DTSTAMP:20260423T094120Z
DTSTART;TZID=Europe/Amsterdam:20260305T200000
DTEND;TZID=Europe/Amsterdam:20260305T230000
END:VEVENT
END:VCALENDAR