BEGIN:VCALENDAR
METHOD:PUBLISH
VERSION:2.0
CALSCALE:GREGORIAN
PRODID:-//NONSGML WPForms//NONSGML Sugar Calendar Feeds v3.11.0//EN
X-WR-CALNAME:SGA competitie: VAS 8 - Amsterdam West 9
X-WR-CALDESC:Vereenigd Amsterdamsch Schaakgenootschap
X-WR-TIMEZONE:Europe/Amsterdam
BEGIN:VTIMEZONE
TZID:Europe/Amsterdam
BEGIN:STANDARD
TZOFFSETFROM:+0200
TZOFFSETTO:+0100
DTSTART:20251026T010000
TZNAME:CET
END:STANDARD
END:VTIMEZONE
BEGIN:VTIMEZONE
TZID:Europe/Amsterdam
BEGIN:STANDARD
TZOFFSETFROM:+0200
TZOFFSETTO:+0100
DTSTART:20251026T010000
TZNAME:CET
END:STANDARD
END:VTIMEZONE
BEGIN:VEVENT
SUMMARY:SGA competitie: VAS 8 - Amsterdam West 9
DESCRIPTION:Uitslagen en stand VAS 8
URL;VALUE=URI:https://www.vas1822.nl/events/sga-competitie-vas-8-amsterd
 am-west-9/
UID:urn:uuid:babea8ba-1881-4371-853f-b024fa41103b
STATUS:CONFIRMED
ORGANIZER:
DTSTAMP:20260419T180949Z
DTSTART;TZID=Europe/Amsterdam:20260305T200000
DTEND;TZID=Europe/Amsterdam:20260305T230000
END:VEVENT
END:VCALENDAR