BEGIN:VCALENDAR
METHOD:PUBLISH
VERSION:2.0
CALSCALE:GREGORIAN
PRODID:-//NONSGML WPForms//NONSGML Sugar Calendar Feeds v3.11.0//EN
X-WR-CALNAME:SGA competitie: VAS 8 - Caissa 7
X-WR-CALDESC:Vereenigd Amsterdamsch Schaakgenootschap
X-WR-TIMEZONE:Europe/Amsterdam
BEGIN:VTIMEZONE
TZID:Europe/Amsterdam
BEGIN:STANDARD
TZOFFSETFROM:+0200
TZOFFSETTO:+0100
DTSTART:20251026T010000
TZNAME:CET
END:STANDARD
END:VTIMEZONE
BEGIN:VTIMEZONE
TZID:Europe/Amsterdam
BEGIN:STANDARD
TZOFFSETFROM:+0200
TZOFFSETTO:+0100
DTSTART:20251026T010000
TZNAME:CET
END:STANDARD
END:VTIMEZONE
BEGIN:VEVENT
SUMMARY:SGA competitie: VAS 8 - Caissa 7
DESCRIPTION:Uitslagen en stand VAS 8
URL;VALUE=URI:https://www.vas1822.nl/events/sga-competitie-vas-8-caissa-
 7/
UID:urn:uuid:828bf05e-a3be-4cd7-a3af-a37db0c69d11
STATUS:CONFIRMED
ORGANIZER:
DTSTAMP:20260419T234056Z
DTSTART;TZID=Europe/Amsterdam:20251211T200000
DTEND;TZID=Europe/Amsterdam:20251211T230000
END:VEVENT
END:VCALENDAR