BEGIN:VCALENDAR
METHOD:PUBLISH
VERSION:2.0
CALSCALE:GREGORIAN
PRODID:-//NONSGML WPForms//NONSGML Sugar Calendar Feeds v3.11.0//EN
X-WR-CALNAME:SGA competitie: VAS 8 - Laurierboom-Gambiet 2
X-WR-CALDESC:Vereenigd Amsterdamsch Schaakgenootschap
X-WR-TIMEZONE:Europe/Amsterdam
BEGIN:VTIMEZONE
TZID:Europe/Amsterdam
BEGIN:STANDARD
TZOFFSETFROM:+0200
TZOFFSETTO:+0100
DTSTART:20251026T010000
TZNAME:CET
END:STANDARD
END:VTIMEZONE
BEGIN:VTIMEZONE
TZID:Europe/Amsterdam
BEGIN:STANDARD
TZOFFSETFROM:+0200
TZOFFSETTO:+0100
DTSTART:20251026T010000
TZNAME:CET
END:STANDARD
END:VTIMEZONE
BEGIN:VEVENT
SUMMARY:SGA competitie: VAS 8 - Laurierboom-Gambiet 2
DESCRIPTION:Uitslagen en stand VAS 8
URL;VALUE=URI:https://www.vas1822.nl/events/sga-competitie-vas-8-laurier
 boom-gambiet-2/
UID:urn:uuid:fa813e4b-470f-4455-a2dd-5fe2d0040a5a
STATUS:CONFIRMED
ORGANIZER:
DTSTAMP:20260419T234243Z
DTSTART;TZID=Europe/Amsterdam:20251127T200000
DTEND;TZID=Europe/Amsterdam:20251127T230000
END:VEVENT
END:VCALENDAR