BEGIN:VCALENDAR
METHOD:PUBLISH
VERSION:2.0
CALSCALE:GREGORIAN
PRODID:-//NONSGML WPForms//NONSGML Sugar Calendar Feeds v3.11.0//EN
X-WR-CALNAME:SGA competitie: VAS 9 - De Raadsheer 4
X-WR-CALDESC:Vereenigd Amsterdamsch Schaakgenootschap
X-WR-TIMEZONE:Europe/Amsterdam
BEGIN:VTIMEZONE
TZID:Europe/Amsterdam
BEGIN:STANDARD
TZOFFSETFROM:+0200
TZOFFSETTO:+0100
DTSTART:20251026T010000
TZNAME:CET
END:STANDARD
END:VTIMEZONE
BEGIN:VTIMEZONE
TZID:Europe/Amsterdam
BEGIN:STANDARD
TZOFFSETFROM:+0200
TZOFFSETTO:+0100
DTSTART:20251026T010000
TZNAME:CET
END:STANDARD
END:VTIMEZONE
BEGIN:VEVENT
SUMMARY:SGA competitie: VAS 9 - De Raadsheer 4
DESCRIPTION:Uitslagen en stand VAS 9
URL;VALUE=URI:https://www.vas1822.nl/events/sga-competitie-vas-9-de-raad
 sheer-4/
UID:urn:uuid:705b227f-4c1c-4231-940d-eaeb28b55edb
STATUS:CONFIRMED
ORGANIZER:
DTSTAMP:20260419T200718Z
DTSTART;TZID=Europe/Amsterdam:20260212T200000
DTEND;TZID=Europe/Amsterdam:20260212T230000
END:VEVENT
END:VCALENDAR