BEGIN:VCALENDAR
METHOD:PUBLISH
VERSION:2.0
CALSCALE:GREGORIAN
PRODID:-//NONSGML WPForms//NONSGML Sugar Calendar Feeds v3.11.0//EN
X-WR-CALNAME:SGA competitie: WSC 1 - VAS 9
X-WR-CALDESC:Vereenigd Amsterdamsch Schaakgenootschap
X-WR-TIMEZONE:Europe/Amsterdam
BEGIN:VTIMEZONE
TZID:Europe/Amsterdam
BEGIN:DAYLIGHT
TZOFFSETFROM:+0100
TZOFFSETTO:+0200
DTSTART:20260329T010000
TZNAME:CEST
END:DAYLIGHT
END:VTIMEZONE
BEGIN:VTIMEZONE
TZID:Europe/Amsterdam
BEGIN:DAYLIGHT
TZOFFSETFROM:+0100
TZOFFSETTO:+0200
DTSTART:20260329T010000
TZNAME:CEST
END:DAYLIGHT
END:VTIMEZONE
BEGIN:VEVENT
SUMMARY:SGA competitie: WSC 1 - VAS 9
DESCRIPTION:Uitslagen en stand VAS 9
URL;VALUE=URI:https://www.vas1822.nl/events/sga-competitie-wsc-1-vas-9/
UID:urn:uuid:4e9a9ec3-0690-494f-927d-778f3c38fe81
STATUS:CONFIRMED
ORGANIZER:
DTSTAMP:20260425T144511Z
DTSTART;TZID=Europe/Amsterdam:20260428T200000
DTEND;TZID=Europe/Amsterdam:20260428T230000
END:VEVENT
END:VCALENDAR