BEGIN:VCALENDAR
METHOD:PUBLISH
VERSION:2.0
CALSCALE:GREGORIAN
PRODID:-//NONSGML WPForms//NONSGML Sugar Calendar Feeds v3.11.0//EN
X-WR-CALNAME:Vastival 2025
X-WR-CALDESC:Vereenigd Amsterdamsch Schaakgenootschap
X-WR-TIMEZONE:Europe/Amsterdam
BEGIN:VTIMEZONE
TZID:Europe/Amsterdam
BEGIN:DAYLIGHT
TZOFFSETFROM:+0100
TZOFFSETTO:+0200
DTSTART:20250330T010000
TZNAME:CEST
END:DAYLIGHT
END:VTIMEZONE
BEGIN:VTIMEZONE
TZID:Europe/Amsterdam
BEGIN:DAYLIGHT
TZOFFSETFROM:+0100
TZOFFSETTO:+0200
DTSTART:20250330T010000
TZNAME:CEST
END:DAYLIGHT
END:VTIMEZONE
BEGIN:VEVENT
SUMMARY:Vastival 2025
DESCRIPTION:Uitnodiging: VAStival 2025\nBeste schakers en vrienden van V
 AS\,\n\nHet is zover\; de eerste editie van het VAStival staat voor de d
 eur!\nWe pakken extra groots uit\, want naast het clubkampioenschap hebb
 en we een waar schaakfeest in petto.\n\n Wat staat er op het programma?\
 nHet clubkampioenschap tussen de matadoren: Luc\, Ricky\, Ryan en Joost!
 \n♟️ Een heuse kraker tegen de Royal Auto Club London – een schaak
 clash die je niet wilt missen!\n Gezelligheid met hapjes en drankjes om 
 de avond compleet te maken.\n Karaoke voor wie naast schaakzetten ook to
 onladders durft te verkennen.\n♚ En natuurlijk: veel schaakplezier –
  met volop kansen om je favoriete Engelse openingen op het bord te breng
 en.\n\n️ Wanneer: 11 september\n\nKom erbij\, beleef spanning\, humor\
 , muziek en vooral schaakmagie op het VAStival!\n\nWe zien je graag aan 
 het bord én bij de microfoon!\n\nMet vriendelijke groet\,\nDe Feestcomm
 issie
URL;VALUE=URI:https://www.vas1822.nl/events/vastival-2025/
UID:urn:uuid:daa2978e-de98-467e-8506-dd222987739d
STATUS:CONFIRMED
ORGANIZER:
DTSTAMP:20260426T003753Z
DTSTART;TZID=Europe/Amsterdam:20250911T200000
DTEND;TZID=Europe/Amsterdam:20250911T230000
END:VEVENT
END:VCALENDAR